BEGIN:VCALENDAR
VERSION:2.0
PRODID:-//Children&#039;s Network - ECPv6.15.14//NONSGML v1.0//EN
CALSCALE:GREGORIAN
METHOD:PUBLISH
X-WR-CALNAME:Children&#039;s Network
X-ORIGINAL-URL:https://cn.sbcounty.gov
X-WR-CALDESC:Events for Children&#039;s Network
REFRESH-INTERVAL;VALUE=DURATION:PT1H
X-Robots-Tag:noindex
X-PUBLISHED-TTL:PT1H
BEGIN:VTIMEZONE
TZID:America/Los_Angeles
BEGIN:DAYLIGHT
TZOFFSETFROM:-0800
TZOFFSETTO:-0700
TZNAME:PDT
DTSTART:20210314T100000
END:DAYLIGHT
BEGIN:STANDARD
TZOFFSETFROM:-0700
TZOFFSETTO:-0800
TZNAME:PST
DTSTART:20211107T090000
END:STANDARD
BEGIN:DAYLIGHT
TZOFFSETFROM:-0800
TZOFFSETTO:-0700
TZNAME:PDT
DTSTART:20220313T100000
END:DAYLIGHT
BEGIN:STANDARD
TZOFFSETFROM:-0700
TZOFFSETTO:-0800
TZNAME:PST
DTSTART:20221106T090000
END:STANDARD
BEGIN:DAYLIGHT
TZOFFSETFROM:-0800
TZOFFSETTO:-0700
TZNAME:PDT
DTSTART:20230312T100000
END:DAYLIGHT
BEGIN:STANDARD
TZOFFSETFROM:-0700
TZOFFSETTO:-0800
TZNAME:PST
DTSTART:20231105T090000
END:STANDARD
END:VTIMEZONE
BEGIN:VEVENT
DTSTART;VALUE=DATE:20220331
DTEND;VALUE=DATE:20220401
DTSTAMP:20260425T050002
CREATED:20211123T212607Z
LAST-MODIFIED:20220222T225258Z
UID:221-1648684800-1648771199@cn.sbcounty.gov
SUMMARY:Mentoring Training
DESCRIPTION:Mentoring Training
URL:https://cn.sbcounty.gov/event/mentoring-training/
CATEGORIES:Mentoring Task Force
ATTACH;FMTTYPE=image/jpeg:https://cn.sbcounty.gov/wp-content/uploads/sites/69/2022/01/final-events-calendar-March-31-2022.jpg
END:VEVENT
END:VCALENDAR