BEGIN:VCALENDAR
VERSION:2.0
PRODID:-//Children&#039;s Network - ECPv6.15.14//NONSGML v1.0//EN
CALSCALE:GREGORIAN
METHOD:PUBLISH
X-WR-CALNAME:Children&#039;s Network
X-ORIGINAL-URL:https://cn.sbcounty.gov
X-WR-CALDESC:Events for Children&#039;s Network
REFRESH-INTERVAL;VALUE=DURATION:PT1H
X-Robots-Tag:noindex
X-PUBLISHED-TTL:PT1H
BEGIN:VTIMEZONE
TZID:America/Los_Angeles
BEGIN:DAYLIGHT
TZOFFSETFROM:-0800
TZOFFSETTO:-0700
TZNAME:PDT
DTSTART:20210314T100000
END:DAYLIGHT
BEGIN:STANDARD
TZOFFSETFROM:-0700
TZOFFSETTO:-0800
TZNAME:PST
DTSTART:20211107T090000
END:STANDARD
BEGIN:DAYLIGHT
TZOFFSETFROM:-0800
TZOFFSETTO:-0700
TZNAME:PDT
DTSTART:20220313T100000
END:DAYLIGHT
BEGIN:STANDARD
TZOFFSETFROM:-0700
TZOFFSETTO:-0800
TZNAME:PST
DTSTART:20221106T090000
END:STANDARD
BEGIN:DAYLIGHT
TZOFFSETFROM:-0800
TZOFFSETTO:-0700
TZNAME:PDT
DTSTART:20230312T100000
END:DAYLIGHT
BEGIN:STANDARD
TZOFFSETFROM:-0700
TZOFFSETTO:-0800
TZNAME:PST
DTSTART:20231105T090000
END:STANDARD
END:VTIMEZONE
BEGIN:VEVENT
DTSTART;TZID=America/Los_Angeles:20220511T090000
DTEND;TZID=America/Los_Angeles:20220511T120000
DTSTAMP:20260425T205603
CREATED:20220426T223848Z
LAST-MODIFIED:20220503T161026Z
UID:13128-1652259600-1652270400@cn.sbcounty.gov
SUMMARY:Perinatal Mental Health - What to Know and How to Help
DESCRIPTION:Parents and caregivers may experience a range of challenges as they welcome a child into their home that can lead to mental and emotional distress. Included in these challenges are perinatal mental health disorders. \nThis 3-hour training will present foundational information on perinatal mental health for hospital and community healthcare providers. In this training\, we will review expectations\, social stigmas\, and barriers to care that impact mental health during the transition to parenthood. \nAs well\, we will review risk factors\, impact of perinatal mental health disorders on babies and the developing child and co-occurring issues like substance use and intimate partner violence. Experts\, Gabrielle Kaufman\, LPCC\, BC-DMT \,NCC \,PMH-C and Anna King\, LCSW\, PMH-C\, will also review the differential diagnoses of perinatal mood and anxiety disorders (PMADs) and treatment recommendations\, including during the screening and assessment phase. Participants will learn how to apply this knowledge within their respective area of practice through an interactive lecture and case examples. \n3 continuing education credit for LMFTs\, LPCCs\, LCSWs\, LEPs\, and psychologists through the Board of Behavioral Sciences (BBS) in the state of CA available at no cost. \nTo register\, visit: https://maternal-mental-health-2022.eventbrite.com/
URL:https://cn.sbcounty.gov/event/perinatal-mental-health-what-to-know-and-how-to-help/
CATEGORIES:IE Maternal Mental Health
END:VEVENT
END:VCALENDAR