BEGIN:VCALENDAR
VERSION:2.0
PRODID:-//Children&#039;s Network - ECPv6.15.14//NONSGML v1.0//EN
CALSCALE:GREGORIAN
METHOD:PUBLISH
X-WR-CALNAME:Children&#039;s Network
X-ORIGINAL-URL:https://cn.sbcounty.gov
X-WR-CALDESC:Events for Children&#039;s Network
REFRESH-INTERVAL;VALUE=DURATION:PT1H
X-Robots-Tag:noindex
X-PUBLISHED-TTL:PT1H
BEGIN:VTIMEZONE
TZID:America/Los_Angeles
BEGIN:DAYLIGHT
TZOFFSETFROM:-0800
TZOFFSETTO:-0700
TZNAME:PDT
DTSTART:20210314T100000
END:DAYLIGHT
BEGIN:STANDARD
TZOFFSETFROM:-0700
TZOFFSETTO:-0800
TZNAME:PST
DTSTART:20211107T090000
END:STANDARD
BEGIN:DAYLIGHT
TZOFFSETFROM:-0800
TZOFFSETTO:-0700
TZNAME:PDT
DTSTART:20220313T100000
END:DAYLIGHT
BEGIN:STANDARD
TZOFFSETFROM:-0700
TZOFFSETTO:-0800
TZNAME:PST
DTSTART:20221106T090000
END:STANDARD
BEGIN:DAYLIGHT
TZOFFSETFROM:-0800
TZOFFSETTO:-0700
TZNAME:PDT
DTSTART:20230312T100000
END:DAYLIGHT
BEGIN:STANDARD
TZOFFSETFROM:-0700
TZOFFSETTO:-0800
TZNAME:PST
DTSTART:20231105T090000
END:STANDARD
BEGIN:DAYLIGHT
TZOFFSETFROM:-0800
TZOFFSETTO:-0700
TZNAME:PDT
DTSTART:20240310T100000
END:DAYLIGHT
BEGIN:STANDARD
TZOFFSETFROM:-0700
TZOFFSETTO:-0800
TZNAME:PST
DTSTART:20241103T090000
END:STANDARD
BEGIN:DAYLIGHT
TZOFFSETFROM:-0800
TZOFFSETTO:-0700
TZNAME:PDT
DTSTART:20250309T100000
END:DAYLIGHT
BEGIN:STANDARD
TZOFFSETFROM:-0700
TZOFFSETTO:-0800
TZNAME:PST
DTSTART:20251102T090000
END:STANDARD
BEGIN:DAYLIGHT
TZOFFSETFROM:-0800
TZOFFSETTO:-0700
TZNAME:PDT
DTSTART:20260308T100000
END:DAYLIGHT
BEGIN:STANDARD
TZOFFSETFROM:-0700
TZOFFSETTO:-0800
TZNAME:PST
DTSTART:20261101T090000
END:STANDARD
END:VTIMEZONE
BEGIN:VEVENT
DTSTART;TZID=America/Los_Angeles:20250403T080000
DTEND;TZID=America/Los_Angeles:20250403T110000
DTSTAMP:20260425T040013
CREATED:20250319T210643Z
LAST-MODIFIED:20250319T210742Z
UID:10000151-1743667200-1743678000@cn.sbcounty.gov
SUMMARY:26th Annual Shine a Light on Child Abuse Prevention Awards
DESCRIPTION:Get ready to celebrate the incredible individuals and organizations who are making a difference in the fight against child abuse at our 26th Annual Shine A Light on Child Abuse Prevention Award Ceremony! Join us for breakfast and a heartwarming and inspiring ceremony. It’s a perfect opportunity to come together as a community\, honor our dedicated honorees\, and shine a light on the vital work being done to protect our children. Don’t miss out on this chance to be part of something truly special—secure your spot today!
URL:https://cn.sbcounty.gov/event/26th-annual-shine-a-light-on-child-abuse-prevention-awards/
LOCATION:DoubleTree Ontario\, 222 N. Vineyard Ave.\, Ontario\, 91764\, United States
CATEGORIES:Child Abuse Prevention,General Information
ATTACH;FMTTYPE=image/png:https://cn.sbcounty.gov/wp-content/uploads/sites/69/2023/03/SaL_Full_Color_LOGO.png
END:VEVENT
BEGIN:VEVENT
DTSTART;TZID=America/Los_Angeles:20250402T100000
DTEND;TZID=America/Los_Angeles:20250402T120000
DTSTAMP:20260425T040013
CREATED:20250324T230802Z
LAST-MODIFIED:20250326T000813Z
UID:10000157-1743588000-1743595200@cn.sbcounty.gov
SUMMARY:C.A.S.E. Outreach and Education Meeting
DESCRIPTION:The presentation will provide a comprehensive exploration of forced criminality within the context of human trafficking\, examining the intersection of exploitation\, victimization\, and the criminal justice system. Join presenter Bekah Charleston for an in-depth understanding of how trafficking victims may be coerced into committing crimes as part of their exploitation\, and the legal complexities surrounding these situations. \n 
URL:https://cn.sbcounty.gov/event/c-a-s-e-outreach-and-education-meeting/
LOCATION:ONLINE
CATEGORIES:C.A.S.E.,Child Abuse Prevention
ATTACH;FMTTYPE=image/jpeg:https://cn.sbcounty.gov/wp-content/uploads/sites/69/2025/03/OE-Flyer-4.2.25_constant-contact-image.jpg
ORGANIZER;CN="Coalition Against Sexual Exploitation (C.A.S.E.)":MAILTO:angel.magallanes@hss.sbcounty.gov
END:VEVENT
BEGIN:VEVENT
DTSTART;TZID=America/Los_Angeles:20240918T080000
DTEND;TZID=America/Los_Angeles:20240918T160000
DTSTAMP:20260425T040013
CREATED:20240826T231229Z
LAST-MODIFIED:20240826T232020Z
UID:10000145-1726646400-1726675200@cn.sbcounty.gov
SUMMARY:38th Annual Children's Network Conference
DESCRIPTION:Registration Flyer \n \nREGISTER HERE \n \nAs the Child Abuse Prevention Council of San Bernardino County\, Children’s Network works with community and County partners to develop collaborative partnerships that focus on educating and increasing awareness efforts to reduce the rates of child abuse and neglect in the County. We coordinate preventative programs and services to strengthen and promote child\, family\, and community well-being. \nChildren’s Network will be hosting our 38th Annual Conference at the DoubleTree Hotel Ontario Airport on September 18\, 2024. \nThis year’s conference will provide 12 educational workshops to health care professionals\, behavioral health clinicians\, childcare providers\, social workers\, community based organizations\, educators\, foster parents\, law enforcement and safety personnel. \nThis year’s conference will feature keynote speaker Leah Plunkett\, author of the book Sharenthood: Why We Should Think Before We Talk About Our Kids Online. Plunkett will examine the implications of “sharenthood”—adults’ excessive digital sharing of children’s data\, the risks\, and the legal system that enables “sharenting.” \nConference Early Bird Registration: $150.00 (before 8/18/24) \nConference Registration: $175.00 \nBreakfast and lunch provided. \nREGISTER HERE
URL:https://cn.sbcounty.gov/event/38th-annual-childrens-network-conference/
LOCATION:DoubleTree Ontario Airport Hotel\, 222 N Vineyard Ave\, Ontario\, CA\, 91764\, United States
CATEGORIES:Child Abuse Prevention,General Information
ORGANIZER;CN="Children's Network":MAILTO:hillary.steenson-ray@hss.sbcounty.gov
END:VEVENT
BEGIN:VEVENT
DTSTART;TZID=America/Los_Angeles:20230426T090000
DTEND;TZID=America/Los_Angeles:20230426T233000
DTSTAMP:20260425T040013
CREATED:20230316T223949Z
LAST-MODIFIED:20230321T203500Z
UID:10000125-1682499600-1682551800@cn.sbcounty.gov
SUMMARY:24th Annual Shine a Light on Child Abuse Prevention Awards Ceremony
DESCRIPTION:24th Annual Shine a Light on Child Abuse Prevention Awards \nJoin us as we honor individuals and organizations for their efforts in preventing child abuse. Those who go the extra mile for children and families in San Bernardino County. While selflessly giving in order to make a difference\, these honorees go above-and-beyond their regular duties to ensure children are safe and healthy\, and that families have the support they need to thrive.\n\nAdditionally\, we will be joined by Children’s Fund to recognize this year’s Shine a Light Scholarship recipients.\n\nBreakfast will be served.
URL:https://cn.sbcounty.gov/event/24th-annual-shine-a-light-on-child-abuse-prevention-awards-ceremony/
LOCATION:DoubleTree Hotel San Bernardino\, 285 E Hospitality Ln\, San Bernardino\, CA\, 92408
CATEGORIES:Child Abuse Prevention,General Information,Shine A Light
ATTACH;FMTTYPE=image/png:https://cn.sbcounty.gov/wp-content/uploads/sites/69/2023/03/SaL_Full_Color_LOGO.png
END:VEVENT
BEGIN:VEVENT
DTSTART;TZID=America/Los_Angeles:20230412T090000
DTEND;TZID=America/Los_Angeles:20230412T130000
DTSTAMP:20260425T040013
CREATED:20230322T211233Z
LAST-MODIFIED:20230322T212306Z
UID:10000143-1681290000-1681304400@cn.sbcounty.gov
SUMMARY:Fentanyl Safety\, Awareness\, and Response
DESCRIPTION:Register Here! \nWhat you need to\nknow: \n\nChildren and youth affected by familial opioid use have an increased risk of maltreatment and neglect.\nExposure to familial overdoses creates often undiagnosed trauma reactions and a need for therapeutic intervention.\nThe rise in Fentanyl/opioid overdose deaths amongst our youth is increasing and is a public health crisis.\nQuick and effective use of naloxone can immediately restore breathing to a victim experiencing an opioid overdose.\n\nRegister Here!
URL:https://cn.sbcounty.gov/event/fentanyl-safety-awareness-and-response-2/
LOCATION:IEHP Dr. Bradley P. Gilbert Center for Learning and Innovation\, 9500 Cleveland Ave.\, Rancho Cucamonga\, CA
CATEGORIES:Child Abuse Prevention
END:VEVENT
BEGIN:VEVENT
DTSTART;TZID=America/Los_Angeles:20230406T090000
DTEND;TZID=America/Los_Angeles:20230406T120000
DTSTAMP:20260425T040013
CREATED:20230322T210519Z
LAST-MODIFIED:20230322T212129Z
UID:10000119-1680771600-1680782400@cn.sbcounty.gov
SUMMARY:Fentanyl Safety\, Awareness\, and Response
DESCRIPTION:Register Here! \nWhat you need to know: \n\nChildren and youth affected by familial opioid use have an increased risk of maltreatment and neglect.\nExposure to familial overdoses creates often undiagnosed trauma reactions and a need for therapeutic intervention.\nThe rise in Fentanyl/opioid overdose deaths amongst our youth is increasing and is a public health crisis.\nQuick and effective use of naloxone can immediately restore breathing to a victim experiencing an opioid overdose.\n\nRegister Here!
URL:https://cn.sbcounty.gov/event/fentanyl-safety-awareness-and-response/
LOCATION:IEHP Community Resource Center\, 12353 Mariposa Rd.\, Ste C-2 and C-3\, Victorville\, CA
CATEGORIES:Child Abuse Prevention
END:VEVENT
BEGIN:VEVENT
DTSTART;TZID=America/Los_Angeles:20220914T080000
DTEND;TZID=America/Los_Angeles:20220914T170000
DTSTAMP:20260425T040013
CREATED:20220728T185733Z
LAST-MODIFIED:20220824T214250Z
UID:10000080-1663142400-1663174800@cn.sbcounty.gov
SUMMARY:36th Annual Children's Network Conference
DESCRIPTION:As the Child Abuse Prevention Council of San Bernardino County\, Children’s Network works with community and County partners to develop collaborative partnerships that focus on educating and increasing awareness efforts to reduce the rates of child abuse and neglect in the County. We coordinate preventative programs and services to strengthen and promote child\, family\, and community well-being. \nChildren’s Network will be hosting our 36th Annual Conference at the DoubleTree Hotel Ontario Airport on September 14\, 2022. \nThis year’s conference will provide 15 educational workshops to health care professionals\, behavioral health clinicians\, childcare providers\, social workers\, community based organizations\, educators\, foster parents\, law enforcement and safety personnel. Some topics that will be covered are: trauma-informed care\, suicide prevention\, the opioid crisis\, connecting with LBGTQIA+ clients\, positive and adverse childhood experiences\, empowering youth through the art\, and much more. \nOur morning keynote speaker\, Regina Louise\, was most recently awarded the United States Department of Human Services Individual Achievement Award for reducing the number of minority children in foster care through adoption\, and the Los Angeles County Board of Supervisors honored her in for her service in helping Los Angeles County foster youth. \nOur afternoon plenary speaker\, Dr. Uribe serves as the Director of Community Health at the Inland Empire Health Plan (IEHP) and as a Professor of Social Work Policy at La Sierra University. IEHP is a not-for-profit public entity\, rapidly growing Medi-Cal and Medicare health plan in California. With a network of more than 7\,000 Providers and 2\,500 employees\, IEHP serves over 1.5 million residents of California’s Riverside and San Bernardino counties who are enrolled in Medi-Cal\, and  Cal MediConnect (Medicare-Medicaid Plan).  Dr. Uribe oversees operations of IEHP’s Community Resource Centers\, Community Health Worker program and diversity services.
URL:https://cn.sbcounty.gov/event/36th-annual-childrens-network-conference/
LOCATION:DoubleTree Ontario Airport Hotel\, 222 N Vineyard Ave\, Ontario\, CA\, 91764\, United States
CATEGORIES:Child Abuse Prevention,General Information
ATTACH;FMTTYPE=image/png:https://cn.sbcounty.gov/wp-content/uploads/sites/69/2022/07/C-Net_Conf_Long_COLOR.png
ORGANIZER;CN="Children's Network":MAILTO:hillary.steenson-ray@hss.sbcounty.gov
END:VEVENT
BEGIN:VEVENT
DTSTART;TZID=America/Los_Angeles:20220428T090000
DTEND;TZID=America/Los_Angeles:20220428T110000
DTSTAMP:20260425T040013
CREATED:20220419T192044Z
LAST-MODIFIED:20220419T192044Z
UID:10000089-1651136400-1651143600@cn.sbcounty.gov
SUMMARY:PACES: Positive and Adverse Childhood Experiences Training
DESCRIPTION:Positive and Adverse Childhood Experiences (PACE) acknowledges that adverse childhood experiences and positive childhood experiences work together\, for our entire lives. Discussions on ACEs have always included information on resilience\, but only addressed it as a mitigating factor in overcoming the effects of ACEs. Joining adverse and positive experiences better reflects the direction this movement has been going. In this training we will discuss: \n• What prompted this new movement\n• Integration of trauma-informed care\, strengthening families and protective factors\n• Power of positive experiences \nRegister through Eventbrite to receive the link to access the training   –   https://paces.eventbrite.com \n  \nVirtual training facilitated by Xeneida Brown and Doreen Ivery from Children’s Network via Zoom.
URL:https://cn.sbcounty.gov/event/paces-positive-and-adverse-childhood-experiences-training/
CATEGORIES:Child Abuse Prevention,Mentoring Task Force
ORGANIZER;CN="Children's Network":MAILTO:hillary.steenson-ray@hss.sbcounty.gov
END:VEVENT
BEGIN:VEVENT
DTSTART;TZID=America/Los_Angeles:20220301T090000
DTEND;TZID=America/Los_Angeles:20220301T170000
DTSTAMP:20260425T040013
CREATED:20211123T212123Z
LAST-MODIFIED:20220222T225403Z
UID:10000110-1646125200-1646154000@cn.sbcounty.gov
SUMMARY:Child Abuse Prevention Committee/CAPC
DESCRIPTION:Child Abuse Prevention Committee/CAPC
URL:https://cn.sbcounty.gov/event/child-abuse-prevention-committee-capc/2022-03-01/
CATEGORIES:Child Abuse Prevention
ATTACH;FMTTYPE=image/jpeg:https://cn.sbcounty.gov/wp-content/uploads/sites/69/2022/01/final-events-calendar-March-1-2022.jpg
END:VEVENT
BEGIN:VEVENT
DTSTART;TZID=America/Los_Angeles:20220201T090000
DTEND;TZID=America/Los_Angeles:20220201T170000
DTSTAMP:20260425T040013
CREATED:20211123T212123Z
LAST-MODIFIED:20220222T225403Z
UID:10000107-1643706000-1643734800@cn.sbcounty.gov
SUMMARY:Child Abuse Prevention Committee/CAPC
DESCRIPTION:Child Abuse Prevention Committee/CAPC
URL:https://cn.sbcounty.gov/event/child-abuse-prevention-committee-capc/2022-02-01/
CATEGORIES:Child Abuse Prevention
ATTACH;FMTTYPE=image/jpeg:https://cn.sbcounty.gov/wp-content/uploads/sites/69/2022/01/final-events-calendar-March-1-2022.jpg
END:VEVENT
END:VCALENDAR