BEGIN:VCALENDAR
VERSION:2.0
PRODID:-//Children&#039;s Network - ECPv6.15.14//NONSGML v1.0//EN
CALSCALE:GREGORIAN
METHOD:PUBLISH
X-ORIGINAL-URL:https://cn.sbcounty.gov
X-WR-CALDESC:Events for Children&#039;s Network
REFRESH-INTERVAL;VALUE=DURATION:PT1H
X-Robots-Tag:noindex
X-PUBLISHED-TTL:PT1H
BEGIN:VTIMEZONE
TZID:America/Los_Angeles
BEGIN:DAYLIGHT
TZOFFSETFROM:-0800
TZOFFSETTO:-0700
TZNAME:PDT
DTSTART:20210314T100000
END:DAYLIGHT
BEGIN:STANDARD
TZOFFSETFROM:-0700
TZOFFSETTO:-0800
TZNAME:PST
DTSTART:20211107T090000
END:STANDARD
BEGIN:DAYLIGHT
TZOFFSETFROM:-0800
TZOFFSETTO:-0700
TZNAME:PDT
DTSTART:20220313T100000
END:DAYLIGHT
BEGIN:STANDARD
TZOFFSETFROM:-0700
TZOFFSETTO:-0800
TZNAME:PST
DTSTART:20221106T090000
END:STANDARD
BEGIN:DAYLIGHT
TZOFFSETFROM:-0800
TZOFFSETTO:-0700
TZNAME:PDT
DTSTART:20230312T100000
END:DAYLIGHT
BEGIN:STANDARD
TZOFFSETFROM:-0700
TZOFFSETTO:-0800
TZNAME:PST
DTSTART:20231105T090000
END:STANDARD
BEGIN:DAYLIGHT
TZOFFSETFROM:-0800
TZOFFSETTO:-0700
TZNAME:PDT
DTSTART:20240310T100000
END:DAYLIGHT
BEGIN:STANDARD
TZOFFSETFROM:-0700
TZOFFSETTO:-0800
TZNAME:PST
DTSTART:20241103T090000
END:STANDARD
BEGIN:DAYLIGHT
TZOFFSETFROM:-0800
TZOFFSETTO:-0700
TZNAME:PDT
DTSTART:20250309T100000
END:DAYLIGHT
BEGIN:STANDARD
TZOFFSETFROM:-0700
TZOFFSETTO:-0800
TZNAME:PST
DTSTART:20251102T090000
END:STANDARD
BEGIN:DAYLIGHT
TZOFFSETFROM:-0800
TZOFFSETTO:-0700
TZNAME:PDT
DTSTART:20260308T100000
END:DAYLIGHT
BEGIN:STANDARD
TZOFFSETFROM:-0700
TZOFFSETTO:-0800
TZNAME:PST
DTSTART:20261101T090000
END:STANDARD
END:VTIMEZONE
BEGIN:VEVENT
DTSTART;TZID=America/Los_Angeles:20250403T080000
DTEND;TZID=America/Los_Angeles:20250403T110000
DTSTAMP:20260425T212404
CREATED:20250319T210643Z
LAST-MODIFIED:20250319T210742Z
UID:10000151-1743667200-1743678000@cn.sbcounty.gov
SUMMARY:26th Annual Shine a Light on Child Abuse Prevention Awards
DESCRIPTION:Get ready to celebrate the incredible individuals and organizations who are making a difference in the fight against child abuse at our 26th Annual Shine A Light on Child Abuse Prevention Award Ceremony! Join us for breakfast and a heartwarming and inspiring ceremony. It’s a perfect opportunity to come together as a community\, honor our dedicated honorees\, and shine a light on the vital work being done to protect our children. Don’t miss out on this chance to be part of something truly special—secure your spot today!
URL:https://cn.sbcounty.gov/event/26th-annual-shine-a-light-on-child-abuse-prevention-awards/
LOCATION:DoubleTree Ontario\, 222 N. Vineyard Ave.\, Ontario\, 91764\, United States
CATEGORIES:Child Abuse Prevention,General Information
ATTACH;FMTTYPE=image/png:https://cn.sbcounty.gov/wp-content/uploads/sites/69/2023/03/SaL_Full_Color_LOGO.png
END:VEVENT
BEGIN:VEVENT
DTSTART;TZID=America/Los_Angeles:20250327T090000
DTEND;TZID=America/Los_Angeles:20250327T160000
DTSTAMP:20260425T212404
CREATED:20250219T231529Z
LAST-MODIFIED:20250219T231529Z
UID:10000150-1743066000-1743091200@cn.sbcounty.gov
SUMMARY:Understanding Behavior in Children Workshop
DESCRIPTION:Experts in pediatric neuropsychology\, speech-language pathology\, occupational therapy\, and clinical social work will have in-depth discussions on trauma\, mental health\, and neurodevelopmental disorders in children. \nRegister Today \nFor more information\, call 909.383.9677 or visit our website at cn.sbcounty.gov.
URL:https://cn.sbcounty.gov/event/understanding-behavior-in-children-workshop/
LOCATION:Dorothy Inghram Learning Center\, 670 E. Carnegie Dr.\, San Bernardino\, CA\, 92408\, United States
CATEGORIES:General Information
ATTACH;FMTTYPE=image/png:https://cn.sbcounty.gov/wp-content/uploads/sites/69/2025/02/Understanding-Behavior-in-Children-Workshop-Instagram-Post.png
END:VEVENT
BEGIN:VEVENT
DTSTART;TZID=America/Los_Angeles:20240918T080000
DTEND;TZID=America/Los_Angeles:20240918T160000
DTSTAMP:20260425T212404
CREATED:20240826T231229Z
LAST-MODIFIED:20240826T232020Z
UID:10000145-1726646400-1726675200@cn.sbcounty.gov
SUMMARY:38th Annual Children's Network Conference
DESCRIPTION:Registration Flyer \n \nREGISTER HERE \n \nAs the Child Abuse Prevention Council of San Bernardino County\, Children’s Network works with community and County partners to develop collaborative partnerships that focus on educating and increasing awareness efforts to reduce the rates of child abuse and neglect in the County. We coordinate preventative programs and services to strengthen and promote child\, family\, and community well-being. \nChildren’s Network will be hosting our 38th Annual Conference at the DoubleTree Hotel Ontario Airport on September 18\, 2024. \nThis year’s conference will provide 12 educational workshops to health care professionals\, behavioral health clinicians\, childcare providers\, social workers\, community based organizations\, educators\, foster parents\, law enforcement and safety personnel. \nThis year’s conference will feature keynote speaker Leah Plunkett\, author of the book Sharenthood: Why We Should Think Before We Talk About Our Kids Online. Plunkett will examine the implications of “sharenthood”—adults’ excessive digital sharing of children’s data\, the risks\, and the legal system that enables “sharenting.” \nConference Early Bird Registration: $150.00 (before 8/18/24) \nConference Registration: $175.00 \nBreakfast and lunch provided. \nREGISTER HERE
URL:https://cn.sbcounty.gov/event/38th-annual-childrens-network-conference/
LOCATION:DoubleTree Ontario Airport Hotel\, 222 N Vineyard Ave\, Ontario\, CA\, 91764\, United States
CATEGORIES:Child Abuse Prevention,General Information
ORGANIZER;CN="Children's Network":MAILTO:hillary.steenson-ray@hss.sbcounty.gov
END:VEVENT
BEGIN:VEVENT
DTSTART;TZID=America/Los_Angeles:20230426T090000
DTEND;TZID=America/Los_Angeles:20230426T233000
DTSTAMP:20260425T212404
CREATED:20230316T223949Z
LAST-MODIFIED:20230321T203500Z
UID:10000125-1682499600-1682551800@cn.sbcounty.gov
SUMMARY:24th Annual Shine a Light on Child Abuse Prevention Awards Ceremony
DESCRIPTION:24th Annual Shine a Light on Child Abuse Prevention Awards \nJoin us as we honor individuals and organizations for their efforts in preventing child abuse. Those who go the extra mile for children and families in San Bernardino County. While selflessly giving in order to make a difference\, these honorees go above-and-beyond their regular duties to ensure children are safe and healthy\, and that families have the support they need to thrive.\n\nAdditionally\, we will be joined by Children’s Fund to recognize this year’s Shine a Light Scholarship recipients.\n\nBreakfast will be served.
URL:https://cn.sbcounty.gov/event/24th-annual-shine-a-light-on-child-abuse-prevention-awards-ceremony/
LOCATION:DoubleTree Hotel San Bernardino\, 285 E Hospitality Ln\, San Bernardino\, CA\, 92408
CATEGORIES:Child Abuse Prevention,General Information,Shine A Light
ATTACH;FMTTYPE=image/png:https://cn.sbcounty.gov/wp-content/uploads/sites/69/2023/03/SaL_Full_Color_LOGO.png
END:VEVENT
BEGIN:VEVENT
DTSTART;TZID=America/Los_Angeles:20220914T080000
DTEND;TZID=America/Los_Angeles:20220914T170000
DTSTAMP:20260425T212404
CREATED:20220728T185733Z
LAST-MODIFIED:20220824T214250Z
UID:10000080-1663142400-1663174800@cn.sbcounty.gov
SUMMARY:36th Annual Children's Network Conference
DESCRIPTION:As the Child Abuse Prevention Council of San Bernardino County\, Children’s Network works with community and County partners to develop collaborative partnerships that focus on educating and increasing awareness efforts to reduce the rates of child abuse and neglect in the County. We coordinate preventative programs and services to strengthen and promote child\, family\, and community well-being. \nChildren’s Network will be hosting our 36th Annual Conference at the DoubleTree Hotel Ontario Airport on September 14\, 2022. \nThis year’s conference will provide 15 educational workshops to health care professionals\, behavioral health clinicians\, childcare providers\, social workers\, community based organizations\, educators\, foster parents\, law enforcement and safety personnel. Some topics that will be covered are: trauma-informed care\, suicide prevention\, the opioid crisis\, connecting with LBGTQIA+ clients\, positive and adverse childhood experiences\, empowering youth through the art\, and much more. \nOur morning keynote speaker\, Regina Louise\, was most recently awarded the United States Department of Human Services Individual Achievement Award for reducing the number of minority children in foster care through adoption\, and the Los Angeles County Board of Supervisors honored her in for her service in helping Los Angeles County foster youth. \nOur afternoon plenary speaker\, Dr. Uribe serves as the Director of Community Health at the Inland Empire Health Plan (IEHP) and as a Professor of Social Work Policy at La Sierra University. IEHP is a not-for-profit public entity\, rapidly growing Medi-Cal and Medicare health plan in California. With a network of more than 7\,000 Providers and 2\,500 employees\, IEHP serves over 1.5 million residents of California’s Riverside and San Bernardino counties who are enrolled in Medi-Cal\, and  Cal MediConnect (Medicare-Medicaid Plan).  Dr. Uribe oversees operations of IEHP’s Community Resource Centers\, Community Health Worker program and diversity services.
URL:https://cn.sbcounty.gov/event/36th-annual-childrens-network-conference/
LOCATION:DoubleTree Ontario Airport Hotel\, 222 N Vineyard Ave\, Ontario\, CA\, 91764\, United States
CATEGORIES:Child Abuse Prevention,General Information
ATTACH;FMTTYPE=image/png:https://cn.sbcounty.gov/wp-content/uploads/sites/69/2022/07/C-Net_Conf_Long_COLOR.png
ORGANIZER;CN="Children's Network":MAILTO:hillary.steenson-ray@hss.sbcounty.gov
END:VEVENT
END:VCALENDAR